BEGIN:VCALENDAR
VERSION:2.0
PRODID:-//Soroptimisten - ECPv6.0.10//NONSGML v1.0//EN
CALSCALE:GREGORIAN
METHOD:PUBLISH
X-ORIGINAL-URL:https://soroptimist-club-speyer.de
X-WR-CALDESC:Veranstaltungen für Soroptimisten
REFRESH-INTERVAL;VALUE=DURATION:PT1H
X-Robots-Tag:noindex
X-PUBLISHED-TTL:PT1H
BEGIN:VTIMEZONE
TZID:Europe/Paris
BEGIN:DAYLIGHT
TZOFFSETFROM:+0100
TZOFFSETTO:+0200
TZNAME:CEST
DTSTART:20220327T010000
END:DAYLIGHT
BEGIN:STANDARD
TZOFFSETFROM:+0200
TZOFFSETTO:+0100
TZNAME:CET
DTSTART:20221030T010000
END:STANDARD
END:VTIMEZONE
BEGIN:VEVENT
DTSTART;TZID=Europe/Paris:20220707T190000
DTEND;TZID=Europe/Paris:20220707T210000
DTSTAMP:20260423T205751
CREATED:20220707T183000Z
LAST-MODIFIED:20220612T124422Z
UID:9534-1657220400-1657227600@soroptimist-club-speyer.de
SUMMARY:Lesung mit Annette Kehnel: Wir konnten auch anders
DESCRIPTION:Unser wirtschaftliches Denken – über Konsum\, Kapital\, Profit – stammt aus dem 19. und 20. Jahrhundert. Und ist unbrauchbar geworden. Wie die Historikerin Annette Kehnel anhand lebendig erzählter Beispiele deutlich macht: Ein Blick auf die vormoderne Geschichte der Menschheit offenbart Anregungen für unsere Zukunft jenseits von Gewinnstreben und Eigennutz. Renaissance-Architekten\, die Baustoffrecycling betrieben\, Crowdfunding für die Brücke in Avignon\, nachhaltige Fischerei am Bodensee\, Second-hand-Märkte in Paris und Reparaturberufe in Frankfurt in Zeiten\, als Kreislaufwirtschaft eine Selbstverständlichkeit war.Teilen\, tauschen und nachhaltig handeln: Eine Reise in unsere Vergangenheit\, die Lust auf Veränderung macht. \nIn Zusammenarbeit mit der Deutschen Universität für Verwaltungswissenschaften Speyer. \nBitte anmelden unter: www.uni-speyer.de/wir_konnten_auch_anders \nVeranstaltungsinformation: bitte hier den LINK klicken
URL:https://soroptimist-club-speyer.de/event/lesung-mit-annette-kehnel-wir-konnten-auch-anders/
LOCATION:Universität Speyer\, Freiherr-vom-Stein Str. 2\, Speyer\, 67346
CATEGORIES:Benefiz
END:VEVENT
BEGIN:VEVENT
DTSTART;TZID=Europe/Paris:20220720T193000
DTEND;TZID=Europe/Paris:20220720T220000
DTSTAMP:20260423T205751
CREATED:20220720T183000Z
LAST-MODIFIED:20220401T100355Z
UID:9472-1658345400-1658354400@soroptimist-club-speyer.de
SUMMARY:Clubabend Juli 2022
DESCRIPTION:Claudia Eberhard-Metzger\, Wissenschaftsjournalistin und -publizistin\, \nim Jahr 2021 neu aufgenommene Soror\, referiert zum Thema \n„Die Herzen der Frauen“.
URL:https://soroptimist-club-speyer.de/event/clubabend-juli-2022/
LOCATION:Rays\, Im Hafenbecken 7\, Speyer\, 67346
CATEGORIES:Clubabend
END:VEVENT
END:VCALENDAR