BEGIN:VCALENDAR
VERSION:2.0
PRODID:-//Soroptimisten - ECPv6.0.10//NONSGML v1.0//EN
CALSCALE:GREGORIAN
METHOD:PUBLISH
X-WR-CALNAME:Soroptimisten
X-ORIGINAL-URL:https://soroptimist-club-speyer.de
X-WR-CALDESC:Veranstaltungen für Soroptimisten
REFRESH-INTERVAL;VALUE=DURATION:PT1H
X-Robots-Tag:noindex
X-PUBLISHED-TTL:PT1H
BEGIN:VTIMEZONE
TZID:Europe/Berlin
BEGIN:DAYLIGHT
TZOFFSETFROM:+0100
TZOFFSETTO:+0200
TZNAME:CEST
DTSTART:20220327T010000
END:DAYLIGHT
BEGIN:STANDARD
TZOFFSETFROM:+0200
TZOFFSETTO:+0100
TZNAME:CET
DTSTART:20221030T010000
END:STANDARD
TZID:Europe/Paris
BEGIN:DAYLIGHT
TZOFFSETFROM:+0100
TZOFFSETTO:+0200
TZNAME:CEST
DTSTART:20220327T010000
END:DAYLIGHT
BEGIN:STANDARD
TZOFFSETFROM:+0200
TZOFFSETTO:+0100
TZNAME:CET
DTSTART:20221030T010000
END:STANDARD
END:VTIMEZONE
BEGIN:VEVENT
DTSTART;TZID=Europe/Berlin:20220615T193000
DTEND;TZID=Europe/Berlin:20220615T220000
DTSTAMP:20260423T223258
CREATED:20220615T183000Z
LAST-MODIFIED:20220405T085351Z
UID:8943-1655321400-1655330400@soroptimist-club-speyer.de
SUMMARY:Clubabend Juni 2022
DESCRIPTION:Ulla Hocker\, \nRedakteurin bei ARTE\, berichtet über ihr Projekt \n„Eine Stadt schreibt ein Buch. Fluchtgeschichten“ \n  \n 
URL:https://soroptimist-club-speyer.de/event/clubabend-juni/
LOCATION:Rays\, Im Hafenbecken 7\, Speyer\, 67346
CATEGORIES:Clubabend
END:VEVENT
BEGIN:VEVENT
DTSTART;TZID=Europe/Paris:20220625T140000
DTEND;TZID=Europe/Paris:20220626T170000
DTSTAMP:20260423T223258
CREATED:20220130T165739Z
LAST-MODIFIED:20220130T165739Z
UID:9623-1656165600-1656262800@soroptimist-club-speyer.de
SUMMARY:Club / Linkausflug nach Freiburg i. Br.
DESCRIPTION:Ein Treffen mit den Sorores aus dem Club Zürichsee\, unserem Link in der Schweiz: wir kommen uns gegenseitig „entgegen“ und treffen uns im charmanten Freiburg.
URL:https://soroptimist-club-speyer.de/event/club-linkausflug-nach-freiburg-i-br/
CATEGORIES:Linktrefffen
END:VEVENT
END:VCALENDAR