BEGIN:VCALENDAR
VERSION:2.0
PRODID:-//Soroptimisten - ECPv6.0.10//NONSGML v1.0//EN
CALSCALE:GREGORIAN
METHOD:PUBLISH
X-ORIGINAL-URL:https://soroptimist-club-speyer.de
X-WR-CALDESC:Veranstaltungen für Soroptimisten
REFRESH-INTERVAL;VALUE=DURATION:PT1H
X-Robots-Tag:noindex
X-PUBLISHED-TTL:PT1H
BEGIN:VTIMEZONE
TZID:Europe/Berlin
BEGIN:DAYLIGHT
TZOFFSETFROM:+0100
TZOFFSETTO:+0200
TZNAME:CEST
DTSTART:20220327T010000
END:DAYLIGHT
BEGIN:STANDARD
TZOFFSETFROM:+0200
TZOFFSETTO:+0100
TZNAME:CET
DTSTART:20221030T010000
END:STANDARD
END:VTIMEZONE
BEGIN:VEVENT
DTSTART;TZID=Europe/Berlin:20220420T193000
DTEND;TZID=Europe/Berlin:20220420T220000
DTSTAMP:20260424T013506
CREATED:20220420T183000Z
LAST-MODIFIED:20220405T085317Z
UID:8977-1650483000-1650492000@soroptimist-club-speyer.de
SUMMARY:Clubabend April 2022
DESCRIPTION:Dr. Anette Neumeister\, \nSoror aus unserem Club: \nErste Hilfe – Auffrischungsworkshop für Sorores \n 
URL:https://soroptimist-club-speyer.de/event/clubabend-april/
LOCATION:Hinode\, Kleine Pfaffengasse 24\, Speyer\, 67346
CATEGORIES:Clubabend
END:VEVENT
END:VCALENDAR