BEGIN:VCALENDAR
VERSION:2.0
PRODID:-//Soroptimisten - ECPv6.0.10//NONSGML v1.0//EN
CALSCALE:GREGORIAN
METHOD:PUBLISH
X-WR-CALNAME:Soroptimisten
X-ORIGINAL-URL:https://soroptimist-club-speyer.de
X-WR-CALDESC:Veranstaltungen für Soroptimisten
REFRESH-INTERVAL;VALUE=DURATION:PT1H
X-Robots-Tag:noindex
X-PUBLISHED-TTL:PT1H
BEGIN:VTIMEZONE
TZID:Europe/Paris
BEGIN:DAYLIGHT
TZOFFSETFROM:+0100
TZOFFSETTO:+0200
TZNAME:CEST
DTSTART:20230326T010000
END:DAYLIGHT
BEGIN:STANDARD
TZOFFSETFROM:+0200
TZOFFSETTO:+0100
TZNAME:CET
DTSTART:20231029T010000
END:STANDARD
END:VTIMEZONE
BEGIN:VEVENT
DTSTART;TZID=Europe/Paris:20230215T193000
DTEND;TZID=Europe/Paris:20230215T223000
DTSTAMP:20260423T115034
CREATED:20221117T183126Z
LAST-MODIFIED:20230204T114424Z
UID:9775-1676489400-1676500200@soroptimist-club-speyer.de
SUMMARY:Clubabend Februar
DESCRIPTION:Zum Thema Gendermedizin spricht unsere Soror aus dem Club Ludwigshafen\, Dr. Daniela Haensel
URL:https://soroptimist-club-speyer.de/event/clubabend-februar-2/
LOCATION:Hinode\, Kleine Pfaffengasse 24\, Speyer\, 67346
CATEGORIES:Clubabend
END:VEVENT
END:VCALENDAR