BEGIN:VCALENDAR
VERSION:2.0
PRODID:-//Soroptimisten - ECPv6.0.10//NONSGML v1.0//EN
CALSCALE:GREGORIAN
METHOD:PUBLISH
X-ORIGINAL-URL:https://soroptimist-club-speyer.de
X-WR-CALDESC:Veranstaltungen für Soroptimisten
REFRESH-INTERVAL;VALUE=DURATION:PT1H
X-Robots-Tag:noindex
X-PUBLISHED-TTL:PT1H
BEGIN:VTIMEZONE
TZID:Europe/Paris
BEGIN:DAYLIGHT
TZOFFSETFROM:+0100
TZOFFSETTO:+0200
TZNAME:CEST
DTSTART:20230326T010000
END:DAYLIGHT
BEGIN:STANDARD
TZOFFSETFROM:+0200
TZOFFSETTO:+0100
TZNAME:CET
DTSTART:20231029T010000
END:STANDARD
END:VTIMEZONE
BEGIN:VEVENT
DTSTART;TZID=Europe/Paris:20230214T180000
DTEND;TZID=Europe/Paris:20230214T190000
DTSTAMP:20260421T122457
CREATED:20230204T115008Z
LAST-MODIFIED:20230204T115019Z
UID:9876-1676397600-1676401200@soroptimist-club-speyer.de
SUMMARY:OBR - One Billion Rising in Speyer
DESCRIPTION:Wir unterstützen finanziell und tanzen mit!
URL:https://soroptimist-club-speyer.de/event/obr-one-billion-rising-in-speyer/
LOCATION:Geschirrplätzel\, Geschirrplätzel\, Speyer\, 67346
END:VEVENT
END:VCALENDAR