BEGIN:VCALENDAR
VERSION:2.0
PRODID:-//Soroptimisten - ECPv6.0.10//NONSGML v1.0//EN
CALSCALE:GREGORIAN
METHOD:PUBLISH
X-WR-CALNAME:Soroptimisten
X-ORIGINAL-URL:https://soroptimist-club-speyer.de
X-WR-CALDESC:Veranstaltungen für Soroptimisten
REFRESH-INTERVAL;VALUE=DURATION:PT1H
X-Robots-Tag:noindex
X-PUBLISHED-TTL:PT1H
BEGIN:VTIMEZONE
TZID:Europe/Paris
BEGIN:DAYLIGHT
TZOFFSETFROM:+0100
TZOFFSETTO:+0200
TZNAME:CEST
DTSTART:20230326T010000
END:DAYLIGHT
BEGIN:STANDARD
TZOFFSETFROM:+0200
TZOFFSETTO:+0100
TZNAME:CET
DTSTART:20231029T010000
END:STANDARD
END:VTIMEZONE
BEGIN:VEVENT
DTSTART;TZID=Europe/Paris:20230128T150000
DTEND;TZID=Europe/Paris:20230128T170000
DTSTAMP:20260421T190330
CREATED:20221117T175936Z
LAST-MODIFIED:20221117T182149Z
UID:9757-1674918000-1674925200@soroptimist-club-speyer.de
SUMMARY:Führungen durch die Ausstellung "Die Habsburger im Mittelalter"
DESCRIPTION:Nacheinander zwei Führungen bietet Kuratorin Simone Heimann für unseren Club: um 15 Uhr und um 16 Uhr. Interne Anmeldungen an Kerstin Scholl.
URL:https://soroptimist-club-speyer.de/event/adventsbasar/
LOCATION:Historisches Museum der Pfalz Speyer\, Domplatz 4\, Speyer\, 67346
CATEGORIES:Museumsführung
END:VEVENT
END:VCALENDAR