BEGIN:VCALENDAR
VERSION:2.0
PRODID:-//Soroptimisten - ECPv6.0.10//NONSGML v1.0//EN
CALSCALE:GREGORIAN
METHOD:PUBLISH
X-ORIGINAL-URL:https://soroptimist-club-speyer.de
X-WR-CALDESC:Veranstaltungen für Soroptimisten
REFRESH-INTERVAL;VALUE=DURATION:PT1H
X-Robots-Tag:noindex
X-PUBLISHED-TTL:PT1H
BEGIN:VTIMEZONE
TZID:Europe/Paris
BEGIN:DAYLIGHT
TZOFFSETFROM:+0100
TZOFFSETTO:+0200
TZNAME:CEST
DTSTART:20220327T010000
END:DAYLIGHT
BEGIN:STANDARD
TZOFFSETFROM:+0200
TZOFFSETTO:+0100
TZNAME:CET
DTSTART:20221030T010000
END:STANDARD
END:VTIMEZONE
BEGIN:VEVENT
DTSTART;TZID=Europe/Paris:20221203T150000
DTEND;TZID=Europe/Paris:20221203T170000
DTSTAMP:20260423T144929
CREATED:20221117T182633Z
LAST-MODIFIED:20221117T183907Z
UID:9768-1670079600-1670086800@soroptimist-club-speyer.de
SUMMARY:Adventsbasar
DESCRIPTION:„Bring a friend“: Adventsbasar mit Kaffee und Kuchen im Schifffahrtsmuseum Speyer. Stöbern lohnt sich: Leckeres\, Handwerkliches und Kurioses zum Verschenken sind im Angebot!
URL:https://soroptimist-club-speyer.de/event/adventsbasar-2/
LOCATION:Schifffahrtsmuseum Speyer\, Rheinallee 3\, Speyer\, 67346
CATEGORIES:Benefiz
END:VEVENT
END:VCALENDAR