BEGIN:VCALENDAR
VERSION:2.0
PRODID:-//Soroptimisten - ECPv6.0.10//NONSGML v1.0//EN
CALSCALE:GREGORIAN
METHOD:PUBLISH
X-WR-CALNAME:Soroptimisten
X-ORIGINAL-URL:https://soroptimist-club-speyer.de
X-WR-CALDESC:Veranstaltungen für Soroptimisten
REFRESH-INTERVAL;VALUE=DURATION:PT1H
X-Robots-Tag:noindex
X-PUBLISHED-TTL:PT1H
BEGIN:VTIMEZONE
TZID:Europe/Paris
BEGIN:DAYLIGHT
TZOFFSETFROM:+0100
TZOFFSETTO:+0200
TZNAME:CEST
DTSTART:20220327T010000
END:DAYLIGHT
BEGIN:STANDARD
TZOFFSETFROM:+0200
TZOFFSETTO:+0100
TZNAME:CET
DTSTART:20221030T010000
END:STANDARD
END:VTIMEZONE
BEGIN:VEVENT
DTSTART;TZID=Europe/Paris:20221117T080000
DTEND;TZID=Europe/Paris:20221117T170000
DTSTAMP:20260423T163427
CREATED:20221117T192226Z
LAST-MODIFIED:20221117T192226Z
UID:9807-1668672000-1668704400@soroptimist-club-speyer.de
SUMMARY:Clubabend August
DESCRIPTION:Liusttreffen in einem sommerlichen Garten – Überraschung!
URL:https://soroptimist-club-speyer.de/event/clubabend-august/
CATEGORIES:Clubabend
END:VEVENT
END:VCALENDAR