BEGIN:VCALENDAR
VERSION:2.0
PRODID:-//Soroptimisten - ECPv6.0.10//NONSGML v1.0//EN
CALSCALE:GREGORIAN
METHOD:PUBLISH
X-WR-CALNAME:Soroptimisten
X-ORIGINAL-URL:https://soroptimist-club-speyer.de
X-WR-CALDESC:Veranstaltungen für Soroptimisten
REFRESH-INTERVAL;VALUE=DURATION:PT1H
X-Robots-Tag:noindex
X-PUBLISHED-TTL:PT1H
BEGIN:VTIMEZONE
TZID:Europe/Paris
BEGIN:DAYLIGHT
TZOFFSETFROM:+0100
TZOFFSETTO:+0200
TZNAME:CEST
DTSTART:20220327T010000
END:DAYLIGHT
BEGIN:STANDARD
TZOFFSETFROM:+0200
TZOFFSETTO:+0100
TZNAME:CET
DTSTART:20221030T010000
END:STANDARD
END:VTIMEZONE
BEGIN:VEVENT
DTSTART;TZID=Europe/Paris:20220810T190000
DTEND;TZID=Europe/Paris:20220810T220000
DTSTAMP:20260423T205444
CREATED:20220817T180000Z
LAST-MODIFIED:20220401T100759Z
UID:9476-1660158000-1660168800@soroptimist-club-speyer.de
SUMMARY:Clubabend August 2022 "Lusttreffen"
DESCRIPTION:Herzliche Einladung zum Lusttreffen bei Sabine. \nWeitere Planungen werden rechtzeitig kommuniziert.
URL:https://soroptimist-club-speyer.de/event/clubabend-august-2022-lusttreffen/
END:VEVENT
END:VCALENDAR