BEGIN:VCALENDAR
VERSION:2.0
PRODID:-//Soroptimisten - ECPv6.0.10//NONSGML v1.0//EN
CALSCALE:GREGORIAN
METHOD:PUBLISH
X-ORIGINAL-URL:https://soroptimist-club-speyer.de
X-WR-CALDESC:Veranstaltungen für Soroptimisten
REFRESH-INTERVAL;VALUE=DURATION:PT1H
X-Robots-Tag:noindex
X-PUBLISHED-TTL:PT1H
BEGIN:VTIMEZONE
TZID:Europe/Berlin
BEGIN:DAYLIGHT
TZOFFSETFROM:+0100
TZOFFSETTO:+0200
TZNAME:CEST
DTSTART:20220327T010000
END:DAYLIGHT
BEGIN:STANDARD
TZOFFSETFROM:+0200
TZOFFSETTO:+0100
TZNAME:CET
DTSTART:20221030T010000
END:STANDARD
END:VTIMEZONE
BEGIN:VEVENT
DTSTART;TZID=Europe/Berlin:20220518T170000
DTEND;TZID=Europe/Berlin:20220518T220000
DTSTAMP:20260424T013459
CREATED:20220518T160000Z
LAST-MODIFIED:20220330T111011Z
UID:8975-1652893200-1652911200@soroptimist-club-speyer.de
SUMMARY:Clubabend Mai 2022
DESCRIPTION:Wir besuchen die Ausstellung „Aus dem Schatten ins Licht. Starke Frauen aus 1000 Jahren Pfälzer Geschichte“ in der VHS Ludwigshafen. Einführung durch Frau Dr. Regina Heilmann\, Kuratorin. Das Abendessen nehmen wir danach in Ludwigshafen ein. \nWeitere Details folgen.
URL:https://soroptimist-club-speyer.de/event/clubabend-mai/
LOCATION:VHS Ludwigshafen\, Bürgerhof\, Ludwigshafen
CATEGORIES:Clubabend
END:VEVENT
END:VCALENDAR